BEGIN:VCALENDAR
VERSION:2.0
METHOD:PUBLISH
CALSCALE:GREGORIAN
BEGIN:VEVENT
UID:94045519-4b20-4d6b-8b61-7bad56f9a4f0
SEQUENCE:0
CLASS:PUBLIC
PRIORITY:5
DTSTAMP:20260424T171816Z
CREATED:20260424T171816Z
DTSTART:20260429T143000Z
SUMMARY:Bénédiction Crématorium de Nice de Pascaline JAFRATE
LOCATION:Chem. du Roguez, 06670 Colomars, 06670, Colomars
BEGIN:VALARM
TRIGGER:-PT30M
ACTION:DISPLAY
DESCRIPTION:Reminder
END:VALARM
END:VEVENT
END:VCALENDAR
