BEGIN:VCALENDAR
VERSION:2.0
METHOD:PUBLISH
CALSCALE:GREGORIAN
BEGIN:VEVENT
UID:e0715d4a-4cd4-446a-84f3-fd90454c1c9d
SEQUENCE:0
CLASS:PUBLIC
PRIORITY:5
DTSTAMP:20260425T131931Z
CREATED:20260425T131931Z
DTSTART:20260424T100000Z
SUMMARY:Cérémonie Religieuse en la chapelle Jeanne d'Arc de Christophe MAGNANI
LOCATION:Bd de Lattre de Tassigny, 06700, Saint Laurent du Var
BEGIN:VALARM
TRIGGER:-PT30M
ACTION:DISPLAY
DESCRIPTION:Reminder
END:VALARM
END:VEVENT
END:VCALENDAR
