BEGIN:VCALENDAR
VERSION:2.0
METHOD:PUBLISH
CALSCALE:GREGORIAN
BEGIN:VEVENT
UID:6961815e-b559-44b4-a8d4-f77d055e89b2
SEQUENCE:0
CLASS:PUBLIC
PRIORITY:5
DTSTAMP:20260426T023645Z
CREATED:20260426T023645Z
DTSTART:20260428T140000Z
SUMMARY:Cérémonie de André BOUCHITÉ
LOCATION:Eglise St Georges-Conségudes P.ST VERAN-ST LAMBERT, 06510, CONSEGUDES, FR
BEGIN:VALARM
TRIGGER:-PT30M
ACTION:DISPLAY
DESCRIPTION:Reminder
END:VALARM
END:VEVENT
END:VCALENDAR
